Workbook

Sheet Rekapitulace stavby
A1: Export Komplet | BA1: 2.0 | BB1: ZAMOK | BT1: False | BU1: False | BV1: {c7adc6d1-69a3-4d93-9529-6fd4f86bacdb}
BS2: 0,01 | BT2: 21
BS3: 0,01 | BT3: 15
D4: REKAPITULACE STAVBY | AS4: v --- níže se nacházejí doplnkové a pomocné údaje k sestavám --- v | BS4: 0,001
D5: Kód: | K5: 202072021 | BS5: 0,01
D6: Stavba: | K6: Kurta Konráda 8, Praha 9 - sanace poruch betonových konstrukcí v garážích objektu | BS6: 0,01
D7: KSO: | AK7: CC-CZ: | BS7: 0,01
D8: Místo: | AK8: Datum: | AN8: 9. 7. 2021 | BS8: 0,01
BS9: 0,01
D10: Zadavatel: | AK10: IČ: | BS10: 0,01
AK11: DIČ: | BS11: 0,01
BS12: 0,01
D13: Zhotovitel: | AK13: IČ: | BS13: 0,01
AK14: DIČ: | BS14: 0,01
BS15: False
D16: Projektant: | AK16: IČ: | BS16: False
AK17: DIČ: | BS17: True
BS18: 0,01
D19: Zpracovatel: | AK19: IČ: | BS19: 0,01
AK20: DIČ: | BS20: True
D22: Poznámka:
D26: Cena bez DPH | AK26: =ROUND(AG94,2) -> 1599601.8
L28: Sazba daně | W28: Základ daně | AK28: Výše daně
D29: DPH | F29: základní | L29: 0.21 | W29: =ROUND(AZ94, 2) -> 0 | AK29: =ROUND(AV94, 2) -> 0
F30: snížená | L30: 0.15 | W30: =ROUND(BA94, 2) -> 1599601.8 | AK30: =ROUND(AW94, 2) -> 239940.28
F31: zákl. přenesená | L31: 0.21 | W31: =ROUND(BB94, 2) -> 0 | AK31: 0
F32: sníž. přenesená | L32: 0.15 | W32: =ROUND(BC94, 2) -> 0 | AK32: 0
F33: nulová | L33: 0 | W33: =ROUND(BD94, 2) -> 0 | AK33: 0
D35: Cena s DPH | T35: v | X35: CZK | AK35: =SUM(AK26:AK33) -> 1839542.1
D49: Projektant | AH49: Zpracovatel
D60: Datum a podpis: | V60: Razítko | AH60: Datum a podpis: | AM60: Razítko
D64: Objednavatel | AH64: Zhotovitel
D75: Datum a podpis: | V75: Razítko | AH75: Datum a podpis: | AM75: Razítko
C82: REKAPITULACE OBJEKTŮ STAVBY A SOUPISŮ PRACÍ
C84: Kód: | L84: =K5 -> 202072021
C85: Stavba: | L85: =K6 -> Kurta Konráda 8, Praha 9 - sanace poruch betonových konstrukcí v garážích objektu
C87: Místo: | L87: =IF(K8="","",K8) | AI87: Datum: | AM87: =IF(AN8= "","",AN8) -> 9. 7. 2021
C89: Zadavatel: | L89: =IF(E11= "","",E11) | AI89: Projektant: | AM89: =IF(E17="","",E17) | AS89: Informatívní údaje z listů zakázek
C90: Zhotovitel: | L90: =IF(E14="","",E14) | AI90: Zpracovatel: | AM90: =IF(E20="","",E20)
C92: Kód | I92: Popis | AG92: Cena bez DPH [CZK] | AN92: Cena s DPH [CZK] | AQ92: Typ | AS92: z toho Ostat._x000D_ náklady [CZK] | AT92: DPH [CZK] | AU92: Normohodiny [h] | AV92: DPH základní [CZK] | AW92: DPH snížená [CZK] | AX92: DPH základní přenesená_x000D_ [CZK] | AY92: DPH snížená přenesená_x000D_ [CZK] | AZ92: Základna_x000D_ DPH základní | BA92: Základna_x000D_ DPH snížená | BB92: Základna_x000D_ DPH zákl. přenesená | BC92: Základna_x000D_ DPH sníž. přenesená | BD92: Základna_x000D_ DPH nulová
C94: Náklady z rozpočtů | AG94: =ROUND(AG95,2) -> 1599601.8 | AN94: =SUM(AG94,AT94) -> 1839542.1 | AS94: =ROUND(AS95,2) -> 0 | AT94: =ROUND(SUM(AV94:AW94),2) -> 239940.28 | AU94: =ROUND(AU95,5) -> 1586.2077 | AV94: =ROUND(AZ94*L29,2) -> 0 | AW94: =ROUND(BA94*L30,2) -> 239940.28 | AX94: =ROUND(BB94*L29,2) -> 0 | AY94: =ROUND(BC94*L30,2) -> 0 | AZ94: =ROUND(AZ95,2) -> 0 | BA94: =ROUND(BA95,2) -> 1599601.8 | BB94: =ROUND(BB95,2) -> 0 | BC94: =ROUND(BC95,2) -> 0 | BD94: =ROUND(BD95,2) -> 0 | BS94: D | BT94: 0 | BV94: IMPORT | BW94: {c7adc6d1-69a3-4d93-9529-6fd4f86bacdb} | BX94: {00000000-0000-0000-0000-000000000000}
A95: / | D95: 202072021 | J95: Kurta Konráda 8, Praha 9 - sanace poruch betonových konstrukcí v garážích objektu | AG95: ='202072021 - Kurta Konráda...'!J28 -> 1599601.8 | AN95: =SUM(AG95,AT95) -> 1839542.1 | AQ95: STA | AS95: 0 | AT95: =ROUND(SUM(AV95:AW95),2) -> 239940.28 | AU95: ='202072021 - Kurta Konráda...'!P121 -> 1586.2077 | AV95: ='202072021 - Kurta Konráda...'!J31 -> 0 | AW95: ='202072021 - Kurta Konráda...'!J32 -> 239940.28 | AX95: ='202072021 - Kurta Konráda...'!J33 -> 0 | AY95: ='202072021 - Kurta Konráda...'!J34 -> 0 | AZ95: ='202072021 - Kurta Konráda...'!F31 -> 0 | BA95: ='202072021 - Kurta Konráda...'!F32 -> 1599601.8 | BB95: ='202072021 - Kurta Konráda...'!F33 -> 0 | BC95: ='202072021 - Kurta Konráda...'!F34 -> 0 | BD95: ='202072021 - Kurta Konráda...'!F35 -> 0 | BT95: 1 | BU95: ###NOINSERT### | BV95: IMPORT | BW95: {c7adc6d1-69a3-4d93-9529-6fd4f86bacdb} | BX95: {00000000-0000-0000-0000-000000000000}

Sheet 202072021 - Kurta Konráda...
AT2: {c7adc6d1-69a3-4d93-9529-6fd4f86bacdb}
AT3: 1
D4: KRYCÍ LIST SOUPISU PRACÍ | M4: v --- níže se nacházejí doplnkové a pomocné údaje k sestavám --- v | AT4: False
D6: Stavba:
E7: Kurta Konráda 8, Praha 9 - sanace poruch betonových konstrukcí v garážích objektu
D9: KSO: | I9: CC-CZ:
D10: Místo: | I10: Datum: | J10: ='Rekapitulace stavby'!AN8 -> 9. 7. 2021
D12: Zadavatel: | I12: IČ: | J12: =IF('Rekapitulace stavby'!AN10="","",'Rekapitulace stavby'!AN10)
E13: =IF('Rekapitulace stavby'!E11="","",'Rekapitulace stavby'!E11) | I13: DIČ: | J13: =IF('Rekapitulace stavby'!AN11="","",'Rekapitulace stavby'!AN11)
D15: Zhotovitel: | I15: IČ: | J15: ='Rekapitulace stavby'!AN13
E16: ='Rekapitulace stavby'!E14 | I16: DIČ: | J16: ='Rekapitulace stavby'!AN14
D18: Projektant: | I18: IČ: | J18: =IF('Rekapitulace stavby'!AN16="","",'Rekapitulace stavby'!AN16)
E19: =IF('Rekapitulace stavby'!E17="","",'Rekapitulace stavby'!E17) | I19: DIČ: | J19: =IF('Rekapitulace stavby'!AN17="","",'Rekapitulace stavby'!AN17)
D21: Zpracovatel: | I21: IČ: | J21: =IF('Rekapitulace stavby'!AN19="","",'Rekapitulace stavby'!AN19)
E22: =IF('Rekapitulace stavby'!E20="","",'Rekapitulace stavby'!E20) | I22: DIČ: | J22: =IF('Rekapitulace stavby'!AN20="","",'Rekapitulace stavby'!AN20)
D24: Poznámka:
D28: Cena bez DPH | J28: =ROUND(J121, 2) -> 1599601.8
F30: Základ daně | I30: Sazba daně | J30: Výše daně
D31: DPH | E31: základní | F31: =ROUND((SUM(BE121:BE148)), 2) -> 0 | I31: 0.21 | J31: =ROUND(((SUM(BE121:BE148))*I31), 2) -> 0
E32: snížená | F32: =ROUND((SUM(BF121:BF148)), 2) -> 1599601.8 | I32: 0.15 | J32: =ROUND(((SUM(BF121:BF148))*I32), 2) -> 239940.28
E33: zákl. přenesená | F33: =ROUND((SUM(BG121:BG148)), 2) -> 0 | I33: 0.21 | J33: =0 -> 0
E34: sníž. přenesená | F34: =ROUND((SUM(BH121:BH148)), 2) -> 0 | I34: 0.15 | J34: =0 -> 0
E35: nulová | F35: =ROUND((SUM(BI121:BI148)), 2) -> 0 | I35: 0 | J35: =0 -> 0
D37: Cena s DPH | G37: v | H37: CZK | J37: =SUM(J28:J35) -> 1839542.1
D50: Projektant | G50: Zpracovatel
D61: Datum a podpis: | F61: Razítko | G61: Datum a podpis: | J61: Razítko
D65: Objednavatel | G65: Zhotovitel
D76: Datum a podpis: | F76: Razítko | G76: Datum a podpis: | J76: Razítko
C82: REKAPITULACE ČLENĚNÍ SOUPISU PRACÍ
C84: Stavba:
E85: =E7 -> Kurta Konráda 8, Praha 9 - sanace poruch betonových konstrukcí v garážích objektu
C87: Místo: | F87: =F10 | I87: Datum: | J87: =IF(J10="","",J10) -> 9. 7. 2021
C89: Zadavatel: | F89: =E13 | I89: Projektant: | J89: =E19
C90: Zhotovitel: | F90: =IF(E16="","",E16) | I90: Zpracovatel: | J90: =E22
C92: Kód dílu - Popis | J92: Cena celkem [CZK]
C94: Náklady ze soupisu prací | J94: =J121 -> 1599601.8 | AU94: -1
D95: HSV - Práce a dodávky HSV | J95: =J122 -> 1155998.1
D96: 9 - Ostatní konstrukce a práce, bourání | J96: =J123 -> 1154157
D97: 997 - Přesun sutě | J97: =J129 -> 1220.08
D98: 998 - Přesun hmot | J98: =J134 -> 621
D99: PSV - Práce a dodávky PSV | J99: =J136 -> 376400.64
D100: 783 - Dokončovací práce - nátěry | J100: =J137 -> 376400.64
D101: HZS - Hodinové zúčtovací sazby | J101: =J144 -> 5680
D102: VRN - Vedlejší rozpočtové náklady | J102: =J146 -> 61523.12
D103: VRN4 - Inženýrská činnost | J103: =J147 -> 61523.12
C110: SOUPIS PRACÍ
C112: Stavba:
E113: =E7 -> Kurta Konráda 8, Praha 9 - sanace poruch betonových konstrukcí v garážích objektu
C115: Místo: | F115: =F10 | I115: Datum: | J115: =IF(J10="","",J10) -> 9. 7. 2021
C117: Zadavatel: | F117: =E13 | I117: Projektant: | J117: =E19
C118: Zhotovitel: | F118: =IF(E16="","",E16) | I118: Zpracovatel: | J118: =E22
C120: PČ | D120: Typ | E120: Kód | F120: Popis | G120: MJ | H120: Množství | I120: J.cena [CZK] | J120: Cena celkem [CZK] | K120: Cenová soustava | N120: DPH | O120: J. Nh [h] | P120: Nh celkem [h] | Q120: J. hmotnost [t] | R120: Hmotnost celkem [t] | S120: J. suť [t] | T120: Suť Celkem [t]
C121: Náklady soupisu celkem | J121: =BK121 -> 1599601.8 | P121: =P122+P136+P144+P146 -> 1586.2077 | R121: =R122+R136+R144+R146 -> 3.5659728 | T121: =T122+T136+T144+T146 -> 0.34776 | AT121: D | AU121: -1 | BK121: =BK122+BK136+BK144+BK146 -> 1599601.8
D122: D | E122: HSV | F122: Práce a dodávky HSV | J122: =BK122 -> 1155998.1 | P122: =P123+P129+P134 -> 1334.3887 | R122: =R123+R129+R134 -> 0.4138728 | T122: =T123+T129+T134 -> 0.34776 | AR122: 1 | AT122: D | AU122: 0 | AY122: ROZPOCET | BK122: =BK123+BK129+BK134 -> 1155998.1
D123: D | E123: 9 | F123: Ostatní konstrukce a práce, bourání | J123: =BK123 -> 1154157 | P123: =SUM(P124:P128) -> 1330.4724 | R123: =SUM(R124:R128) -> 0.4138728 | T123: =SUM(T124:T128) -> 0.34776 | AR123: 1 | AT123: D | AU123: 1 | AY123: ROZPOCET | BK123: =SUM(BK124:BK128) -> 1154157
C124: 1 | D124: K | E124: 965046111 | F124: Broušení stávajících betonových podlah úběr do 3 mm | G124: m2 | H124: 399 | I124: 142 | J124: =ROUND(I124*H124,2) -> 56658 | N124: snížená | O124: 0.306 | P124: =O124*H124 -> 122.094 | Q124: 0 | R124: =Q124*H124 -> 0 | S124: 0 | T124: =S124*H124 -> 0 | AR124: 4 | AT124: K | AU124: 2 | AY124: ROZPOCET | BE124: =IF(N124="základní",J124,0) -> 0 | BF124: =IF(N124="snížená",J124,0) -> 56658 | BG124: =IF(N124="zákl. přenesená",J124,0) -> 0 | BH124: =IF(N124="sníž. přenesená",J124,0) -> 0 | BI124: =IF(N124="nulová",J124,0) -> 0 | BJ124: 2 | BK124: =ROUND(I124*H124,2) -> 56658 | BL124: 4 | BM124: 149651409
C125: 2 | D125: K | E125: 965046119 | F125: Příplatek k broušení stávajících betonových podlah za každý další 1 mm úběru | G125: m2 | H125: 399 | I125: 64.6 | J125: =ROUND(I125*H125,2) -> 25775.4 | N125: snížená | O125: 0.141 | P125: =O125*H125 -> 56.259 | Q125: 0 | R125: =Q125*H125 -> 0 | S125: 0 | T125: =S125*H125 -> 0 | AR125: 4 | AT125: K | AU125: 2 | AY125: ROZPOCET | BE125: =IF(N125="základní",J125,0) -> 0 | BF125: =IF(N125="snížená",J125,0) -> 25775.4 | BG125: =IF(N125="zákl. přenesená",J125,0) -> 0 | BH125: =IF(N125="sníž. přenesená",J125,0) -> 0 | BI125: =IF(N125="nulová",J125,0) -> 0 | BJ125: 2 | BK125: =ROUND(I125*H125,2) -> 25775.4 | BL125: 4 | BM125: -1996457594
C126: 3 | D126: K | E126: 977151111 | F126: Jádrové vrty diamantovými korunkami do stavebních materiálů | G126: m | H126: 86.94 | I126: 1640 | J126: =ROUND(I126*H126,2) -> 142581.6 | N126: snížená | O126: 0.56 | P126: =O126*H126 -> 48.6864 | Q126: 0.00012 | R126: =Q126*H126 -> 0.0104328 | S126: 0.004 | T126: =S126*H126 -> 0.34776 | AR126: 4 | AT126: K | AU126: 2 | AY126: ROZPOCET | BE126: =IF(N126="základní",J126,0) -> 0 | BF126: =IF(N126="snížená",J126,0) -> 142581.6 | BG126: =IF(N126="zákl. přenesená",J126,0) -> 0 | BH126: =IF(N126="sníž. přenesená",J126,0) -> 0 | BI126: =IF(N126="nulová",J126,0) -> 0 | BJ126: 2 | BK126: =ROUND(I126*H126,2) -> 142581.6 | BL126: 4 | BM126: 1865008799
C127: 4 | D127: K | E127: 985131111 | F127: Očištění ploch stěn, rubu kleneb a podlah tlakovou vodou | G127: m2 | H127: 369 | I127: 118 | J127: =ROUND(I127*H127,2) -> 43542 | N127: snížená | O127: 0.273 | P127: =O127*H127 -> 100.737 | Q127: 0 | R127: =Q127*H127 -> 0 | S127: 0 | T127: =S127*H127 -> 0 | AR127: 4 | AT127: K | AU127: 2 | AY127: ROZPOCET | BE127: =IF(N127="základní",J127,0) -> 0 | BF127: =IF(N127="snížená",J127,0) -> 43542 | BG127: =IF(N127="zákl. přenesená",J127,0) -> 0 | BH127: =IF(N127="sníž. přenesená",J127,0) -> 0 | BI127: =IF(N127="nulová",J127,0) -> 0 | BJ127: 2 | BK127: =ROUND(I127*H127,2) -> 43542 | BL127: 4 | BM127: -558289351
C128: 5 | D128: K | E128: 985422121 | F128: Injektáž trhlin š do 1 mm v ŽB kcích tl do 100 mm epoxidem včetně vrtů | G128: m | H128: 492 | I128: 1800 | J128: =ROUND(I128*H128,2) -> 885600 | N128: snížená | O128: 2.038 | P128: =O128*H128 -> 1002.696 | Q128: 0.00082 | R128: =Q128*H128 -> 0.40344 | S128: 0 | T128: =S128*H128 -> 0 | AR128: 4 | AT128: K | AU128: 2 | AY128: ROZPOCET | BE128: =IF(N128="základní",J128,0) -> 0 | BF128: =IF(N128="snížená",J128,0) -> 885600 | BG128: =IF(N128="zákl. přenesená",J128,0) -> 0 | BH128: =IF(N128="sníž. přenesená",J128,0) -> 0 | BI128: =IF(N128="nulová",J128,0) -> 0 | BJ128: 2 | BK128: =ROUND(I128*H128,2) -> 885600 | BL128: 4 | BM128: 1345460160
D129: D | E129: 997 | F129: Přesun sutě | J129: =BK129 -> 1220.08 | P129: =SUM(P130:P133) -> 2.02014 | R129: =SUM(R130:R133) -> 0 | T129: =SUM(T130:T133) -> 0 | AR129: 1 | AT129: D | AU129: 1 | AY129: ROZPOCET | BK129: =SUM(BK130:BK133) -> 1220.08
C130: 6 | D130: K | E130: 997013213 | F130: Vnitrostaveništní doprava suti a vybouraných hmot pro budovy v do 12 m ručně | G130: t | H130: 0.348 | I130: 1810 | J130: =ROUND(I130*H130,2) -> 629.88 | N130: snížená | O130: 5.46 | P130: =O130*H130 -> 1.90008 | Q130: 0 | R130: =Q130*H130 -> 0 | S130: 0 | T130: =S130*H130 -> 0 | AR130: 4 | AT130: K | AU130: 2 | AY130: ROZPOCET | BE130: =IF(N130="základní",J130,0) -> 0 | BF130: =IF(N130="snížená",J130,0) -> 629.88 | BG130: =IF(N130="zákl. přenesená",J130,0) -> 0 | BH130: =IF(N130="sníž. přenesená",J130,0) -> 0 | BI130: =IF(N130="nulová",J130,0) -> 0 | BJ130: 2 | BK130: =ROUND(I130*H130,2) -> 629.88 | BL130: 4 | BM130: -1621118186
C131: 7 | D131: K | E131: 997013509 | F131: Příplatek k odvozu suti a vybouraných hmot na skládku ZKD 1 km přes 1 km | G131: t | H131: 5.22 | I131: 10.2 | J131: =ROUND(I131*H131,2) -> 53.24 | N131: snížená | O131: 0.006 | P131: =O131*H131 -> 0.03132 | Q131: 0 | R131: =Q131*H131 -> 0 | S131: 0 | T131: =S131*H131 -> 0 | AR131: 4 | AT131: K | AU131: 2 | AY131: ROZPOCET | BE131: =IF(N131="základní",J131,0) -> 0 | BF131: =IF(N131="snížená",J131,0) -> 53.24 | BG131: =IF(N131="zákl. přenesená",J131,0) -> 0 | BH131: =IF(N131="sníž. přenesená",J131,0) -> 0 | BI131: =IF(N131="nulová",J131,0) -> 0 | BJ131: 2 | BK131: =ROUND(I131*H131,2) -> 53.24 | BL131: 4 | BM131: -473124768
C132: 8 | D132: K | E132: 997013511 | F132: Odvoz suti a vybouraných hmot z meziskládky na skládku do 1 km s naložením a se složením | G132: t | H132: 0.348 | I132: 333 | J132: =ROUND(I132*H132,2) -> 115.88 | N132: snížená | O132: 0.255 | P132: =O132*H132 -> 0.08874 | Q132: 0 | R132: =Q132*H132 -> 0 | S132: 0 | T132: =S132*H132 -> 0 | AR132: 4 | AT132: K | AU132: 2 | AY132: ROZPOCET | BE132: =IF(N132="základní",J132,0) -> 0 | BF132: =IF(N132="snížená",J132,0) -> 115.88 | BG132: =IF(N132="zákl. přenesená",J132,0) -> 0 | BH132: =IF(N132="sníž. přenesená",J132,0) -> 0 | BI132: =IF(N132="nulová",J132,0) -> 0 | BJ132: 2 | BK132: =ROUND(I132*H132,2) -> 115.88 | BL132: 4 | BM132: -1066552362
C133: 9 | D133: K | E133: 997013631 | F133: Poplatek za uložení na skládce (skládkovné) stavebního odpadu směsného kód odpadu 17 09 04 | G133: t | H133: 0.348 | I133: 1210 | J133: =ROUND(I133*H133,2) -> 421.08 | N133: snížená | O133: 0 | P133: =O133*H133 -> 0 | Q133: 0 | R133: =Q133*H133 -> 0 | S133: 0 | T133: =S133*H133 -> 0 | AR133: 4 | AT133: K | AU133: 2 | AY133: ROZPOCET | BE133: =IF(N133="základní",J133,0) -> 0 | BF133: =IF(N133="snížená",J133,0) -> 421.08 | BG133: =IF(N133="zákl. přenesená",J133,0) -> 0 | BH133: =IF(N133="sníž. přenesená",J133,0) -> 0 | BI133: =IF(N133="nulová",J133,0) -> 0 | BJ133: 2 | BK133: =ROUND(I133*H133,2) -> 421.08 | BL133: 4 | BM133: -547349149
D134: D | E134: 998 | F134: Přesun hmot | J134: =BK134 -> 621 | P134: =P135 -> 1.89612 | R134: =R135 -> 0 | T134: =T135 -> 0 | AR134: 1 | AT134: D | AU134: 1 | AY134: ROZPOCET | BK134: =BK135 -> 621
C135: 10 | D135: K | E135: 998018002 | F135: Přesun hmot ruční pro budovy v do 12 m | G135: t | H135: 0.414 | I135: 1500 | J135: =ROUND(I135*H135,2) -> 621 | N135: snížená | O135: 4.58 | P135: =O135*H135 -> 1.89612 | Q135: 0 | R135: =Q135*H135 -> 0 | S135: 0 | T135: =S135*H135 -> 0 | AR135: 4 | AT135: K | AU135: 2 | AY135: ROZPOCET | BE135: =IF(N135="základní",J135,0) -> 0 | BF135: =IF(N135="snížená",J135,0) -> 621 | BG135: =IF(N135="zákl. přenesená",J135,0) -> 0 | BH135: =IF(N135="sníž. přenesená",J135,0) -> 0 | BI135: =IF(N135="nulová",J135,0) -> 0 | BJ135: 2 | BK135: =ROUND(I135*H135,2) -> 621 | BL135: 4 | BM135: -527403873
D136: D | E136: PSV | F136: Práce a dodávky PSV | J136: =BK136 -> 376400.64 | P136: =P137 -> 231.819 | R136: =R137 -> 3.1521 | T136: =T137 -> 0 | AR136: 2 | AT136: D | AU136: 0 | AY136: ROZPOCET | BK136: =BK137 -> 376400.64
D137: D | E137: 783 | F137: Dokončovací práce - nátěry | J137: =BK137 -> 376400.64 | P137: =SUM(P138:P143) -> 231.819 | R137: =SUM(R138:R143) -> 3.1521 | T137: =SUM(T138:T143) -> 0 | AR137: 2 | AT137: D | AU137: 1 | AY137: ROZPOCET | BK137: =SUM(BK138:BK143) -> 376400.64
C138: 11 | D138: K | E138: 783901451 | F138: Zametení betonových podlah před provedením nátěru | G138: m2 | H138: 399 | I138: 4.16 | J138: =ROUND(I138*H138,2) -> 1659.84 | N138: snížená | O138: 0.01 | P138: =O138*H138 -> 3.99 | Q138: 0 | R138: =Q138*H138 -> 0 | S138: 0 | T138: =S138*H138 -> 0 | AR138: 16 | AT138: K | AU138: 2 | AY138: ROZPOCET | BE138: =IF(N138="základní",J138,0) -> 0 | BF138: =IF(N138="snížená",J138,0) -> 1659.84 | BG138: =IF(N138="zákl. přenesená",J138,0) -> 0 | BH138: =IF(N138="sníž. přenesená",J138,0) -> 0 | BI138: =IF(N138="nulová",J138,0) -> 0 | BJ138: 2 | BK138: =ROUND(I138*H138,2) -> 1659.84 | BL138: 16 | BM138: 923151072
C139: 12 | D139: K | E139: 783901453 | F139: Vysátí betonových podlah před provedením nátěru | G139: m2 | H139: 399 | I139: 12.5 | J139: =ROUND(I139*H139,2) -> 4987.5 | N139: snížená | O139: 0.032 | P139: =O139*H139 -> 12.768 | Q139: 0 | R139: =Q139*H139 -> 0 | S139: 0 | T139: =S139*H139 -> 0 | AR139: 16 | AT139: K | AU139: 2 | AY139: ROZPOCET | BE139: =IF(N139="základní",J139,0) -> 0 | BF139: =IF(N139="snížená",J139,0) -> 4987.5 | BG139: =IF(N139="zákl. přenesená",J139,0) -> 0 | BH139: =IF(N139="sníž. přenesená",J139,0) -> 0 | BI139: =IF(N139="nulová",J139,0) -> 0 | BJ139: 2 | BK139: =ROUND(I139*H139,2) -> 4987.5 | BL139: 16 | BM139: -2042348242
C140: 13 | D140: K | E140: 783943151 | F140: Penetrační polyuretanový nátěr hladkých betonových podlah | G140: m2 | H140: 399 | I140: 184 | J140: =ROUND(I140*H140,2) -> 73416 | N140: snížená | O140: 0.108 | P140: =O140*H140 -> 43.092 | Q140: 0.00012 | R140: =Q140*H140 -> 0.04788 | S140: 0 | T140: =S140*H140 -> 0 | AR140: 16 | AT140: K | AU140: 2 | AY140: ROZPOCET | BE140: =IF(N140="základní",J140,0) -> 0 | BF140: =IF(N140="snížená",J140,0) -> 73416 | BG140: =IF(N140="zákl. přenesená",J140,0) -> 0 | BH140: =IF(N140="sníž. přenesená",J140,0) -> 0 | BI140: =IF(N140="nulová",J140,0) -> 0 | BJ140: 2 | BK140: =ROUND(I140*H140,2) -> 73416 | BL140: 16 | BM140: 167114952
C141: 14 | D141: K | E141: 783932171 | F141: Celoplošné vyrovnání betonové podlahy cementovou stěrkou tloušťky do 3 mm | G141: m2 | H141: 399 | I141: 190 | J141: =ROUND(I141*H141,2) -> 75810 | N141: snížená | O141: 0.13 | P141: =O141*H141 -> 51.87 | Q141: 0.0048 | R141: =Q141*H141 -> 1.9152 | S141: 0 | T141: =S141*H141 -> 0 | AR141: 16 | AT141: K | AU141: 2 | AY141: ROZPOCET | BE141: =IF(N141="základní",J141,0) -> 0 | BF141: =IF(N141="snížená",J141,0) -> 75810 | BG141: =IF(N141="zákl. přenesená",J141,0) -> 0 | BH141: =IF(N141="sníž. přenesená",J141,0) -> 0 | BI141: =IF(N141="nulová",J141,0) -> 0 | BJ141: 2 | BK141: =ROUND(I141*H141,2) -> 75810 | BL141: 16 | BM141: 1602163404
C142: 15 | D142: K | E142: 783947161 | F142: Krycí dvojnásobný polyuretanový vodou ředitelný nátěr betonové podlahy | G142: m2 | H142: 399 | I142: 495 | J142: =ROUND(I142*H142,2) -> 197505 | N142: snížená | O142: 0.211 | P142: =O142*H142 -> 84.189 | Q142: 0.00048 | R142: =Q142*H142 -> 0.19152 | S142: 0 | T142: =S142*H142 -> 0 | AR142: 16 | AT142: K | AU142: 2 | AY142: ROZPOCET | BE142: =IF(N142="základní",J142,0) -> 0 | BF142: =IF(N142="snížená",J142,0) -> 197505 | BG142: =IF(N142="zákl. přenesená",J142,0) -> 0 | BH142: =IF(N142="sníž. přenesená",J142,0) -> 0 | BI142: =IF(N142="nulová",J142,0) -> 0 | BJ142: 2 | BK142: =ROUND(I142*H142,2) -> 197505 | BL142: 16 | BM142: -180871933
C143: 16 | D143: K | E143: 783997151 | F143: Příplatek k cenám krycího nátěru betonové podlahy za protiskluznou úpravu | G143: m2 | H143: 399 | I143: 57.7 | J143: =ROUND(I143*H143,2) -> 23022.3 | N143: snížená | O143: 0.09 | P143: =O143*H143 -> 35.91 | Q143: 0.0025 | R143: =Q143*H143 -> 0.9975 | S143: 0 | T143: =S143*H143 -> 0 | AR143: 16 | AT143: K | AU143: 2 | AY143: ROZPOCET | BE143: =IF(N143="základní",J143,0) -> 0 | BF143: =IF(N143="snížená",J143,0) -> 23022.3 | BG143: =IF(N143="zákl. přenesená",J143,0) -> 0 | BH143: =IF(N143="sníž. přenesená",J143,0) -> 0 | BI143: =IF(N143="nulová",J143,0) -> 0 | BJ143: 2 | BK143: =ROUND(I143*H143,2) -> 23022.3 | BL143: 16 | BM143: 1832285154
D144: D | E144: HZS | F144: Hodinové zúčtovací sazby | J144: =BK144 -> 5680 | P144: =P145 -> 20 | R144: =R145 -> 0 | T144: =T145 -> 0 | AR144: 4 | AT144: D | AU144: 0 | AY144: ROZPOCET | BK144: =BK145 -> 5680
C145: 17 | D145: K | E145: HZS1291 | F145: Hodinová zúčtovací sazba pomocný stavební dělník | G145: hod | H145: 20 | I145: 284 | J145: =ROUND(I145*H145,2) -> 5680 | N145: snížená | O145: 1 | P145: =O145*H145 -> 20 | Q145: 0 | R145: =Q145*H145 -> 0 | S145: 0 | T145: =S145*H145 -> 0 | AR145: 512 | AT145: K | AU145: 1 | AY145: ROZPOCET | BE145: =IF(N145="základní",J145,0) -> 0 | BF145: =IF(N145="snížená",J145,0) -> 5680 | BG145: =IF(N145="zákl. přenesená",J145,0) -> 0 | BH145: =IF(N145="sníž. přenesená",J145,0) -> 0 | BI145: =IF(N145="nulová",J145,0) -> 0 | BJ145: 2 | BK145: =ROUND(I145*H145,2) -> 5680 | BL145: 512 | BM145: 1617407900
D146: D | E146: VRN | F146: Vedlejší rozpočtové náklady | J146: =BK146 -> 61523.12 | P146: =P147 -> 0 | R146: =R147 -> 0 | T146: =T147 -> 0 | AR146: 5 | AT146: D | AU146: 0 | AY146: ROZPOCET | BK146: =BK147 -> 61523.12
D147: D | E147: VRN4 | F147: Inženýrská činnost | J147: =BK147 -> 61523.12 | P147: =P148 -> 0 | R147: =R148 -> 0 | T147: =T148 -> 0 | AR147: 5 | AT147: D | AU147: 1 | AY147: ROZPOCET | BK147: =BK148 -> 61523.12
C148: 18 | D148: K | E148: 045002000 | F148: Kompletační a koordinační činnost | G148: % | H148: 4 | I148: 15380.78 | J148: =ROUND(I148*H148,2) -> 61523.12 | N148: snížená | O148: 0 | P148: =O148*H148 -> 0 | Q148: 0 | R148: =Q148*H148 -> 0 | S148: 0 | T148: =S148*H148 -> 0 | AR148: 1024 | AT148: K | AU148: 2 | AY148: ROZPOCET | BE148: =IF(N148="základní",J148,0) -> 0 | BF148: =IF(N148="snížená",J148,0) -> 61523.12 | BG148: =IF(N148="zákl. přenesená",J148,0) -> 0 | BH148: =IF(N148="sníž. přenesená",J148,0) -> 0 | BI148: =IF(N148="nulová",J148,0) -> 0 | BJ148: 2 | BK148: =ROUND(I148*H148,2) -> 61523.12 | BL148: 1024 | BM148: 959356822
